BEGIN:VCALENDAR
VERSION:2.0
PRODID:-//Tukios.com/
BEGIN:VEVENT
UID:efcb15e3-f627-42ca-92cd-cd7cad1a63e1@www.claybarnette.com
DTSTAMP:20260420T020201Z
DTSTART:20260421T220000Z
DTEND:20260421T230000Z
SUMMARY:Visitation
DESCRIPTION:
URL:https://www.claybarnette.com/obituaries/ray-tessneer
LOCATION:Clay-Barnette Funeral Home 1401 W Dixon Blvd  Shelby NC 28152
GEO:35.2884477;-81.5636908
END:VEVENT
END:VCALENDAR