BEGIN:VCALENDAR
VERSION:2.0
PRODID:-//Tukios.com/
BEGIN:VEVENT
UID:9f7b3013-a922-4f08-b592-c300b1f85f82@www.claybarnette.com
DTSTAMP:20260420T020341Z
DTSTART:20260421T230000Z
DTEND:20260422T000000Z
SUMMARY:Funeral Service
DESCRIPTION:
URL:https://www.claybarnette.com/obituaries/ray-tessneer
LOCATION:Clay-Barnette Funeral Home 1401 W Dixon Blvd  Shelby NC 28152
GEO:35.2884477;-81.5636908
END:VEVENT
END:VCALENDAR