BEGIN:VCALENDAR
VERSION:2.0
PRODID:-//Tukios.com/
BEGIN:VEVENT
UID:1f23d61f-7702-4e01-9207-d37a3bca884d@www.claybarnette.com
DTSTAMP:20260423T102239Z
DTSTART:20260427T150000Z
DTEND:20260427T160000Z
SUMMARY:Graveside Service
DESCRIPTION:
URL:https://www.claybarnette.com/obituaries/jimmie-jolley
LOCATION:Trinity Baptist Church Cemetery 746 Trinity Church Road  
	Mooresboro NC 28114
GEO:35.2596985;-81.7147626
END:VEVENT
END:VCALENDAR